BEGIN:VCALENDAR
VERSION:2.0
PRODID:SchoolNow
CALSCALE:GREGORIAN
BEGIN:VEVENT
UID:ff6d61f6-56ab-11f0-8928-0273f81fc779
DTSTAMP:20250701T184837Z
SUMMARY:School Board Meeting- JSHS Library
URL;VALUE=URI:https://www.newmarket.k12.nh.us/calendar/8374783/school-board
 -meeting-jshs-library-clone-clone-clone-clone-clone-clone-clone-clone-clon
 e-clone-clone-clone-clone-clone-clone-clone-clone-clone-clone-clone-clone
DTSTART:20250821T211500Z
DTEND:20250821T231500Z
END:VEVENT
END:VCALENDAR
