BEGIN:VCALENDAR
VERSION:2.0
PRODID:SchoolNow
CALSCALE:GREGORIAN
BEGIN:VEVENT
UID:da619bde-56ab-11f0-96dd-0affc326c55b
DTSTAMP:20250701T184735Z
SUMMARY:School Board Meeting- JSHS Library
URL;VALUE=URI:https://www.newmarket.k12.nh.us/calendar/8374781/school-board
 -meeting-jshs-library-clone-clone-clone-clone-clone-clone-clone-clone-clon
 e-clone-clone-clone-clone-clone-clone-clone-clone-clone-clone-clone
DTSTART:20250717T211500Z
DTEND:20250717T231500Z
END:VEVENT
END:VCALENDAR
