BEGIN:VCALENDAR
VERSION:2.0
PRODID:SchoolNow
CALSCALE:GREGORIAN
BEGIN:VEVENT
UID:9921c356-51f6-11f0-a23a-0a58a9feac02
DTSTAMP:20250625T190002Z
SUMMARY:Athletics MS  Sports Parent information Night Cafe/Library
URL;VALUE=URI:https://www.newmarket.k12.nh.us/calendar/8353326/athletics-ms
 -sports-parent-information-night-cafe-library
DTSTART:20250820T220000Z
DTEND:20250821T000000Z
END:VEVENT
END:VCALENDAR
