BEGIN:VCALENDAR
VERSION:2.0
PRODID:SchoolNow
CALSCALE:GREGORIAN
BEGIN:VEVENT
UID:afda24cc-4ba1-11f0-b681-02de2f7b37e7
DTSTAMP:20250617T173706Z
SUMMARY:Juneteenth
URL;VALUE=URI:https://www.newmarket.k12.nh.us/calendar/8318813/juneteenth
DTSTART;VALUE=DATE:20260619
DTEND;VALUE=DATE:20260620
END:VEVENT
END:VCALENDAR
