BEGIN:VCALENDAR
VERSION:2.0
PRODID:SchoolNow
CALSCALE:GREGORIAN
BEGIN:VEVENT
UID:9b3c071a-4ba1-11f0-9576-022fd56b161f
DTSTAMP:20250617T173631Z
SUMMARY:Last Day\, Half Day - No Snow Days
URL;VALUE=URI:https://www.newmarket.k12.nh.us/calendar/8318812/last-day-hal
 f-day-no-snow-days
DTSTART;VALUE=DATE:20260612
DTEND;VALUE=DATE:20260613
END:VEVENT
END:VCALENDAR
