BEGIN:VCALENDAR
VERSION:2.0
PRODID:SchoolNow
CALSCALE:GREGORIAN
BEGIN:VEVENT
UID:501218d8-4ba1-11f0-a798-0ef924d70cdd
DTSTAMP:20250617T173425Z
SUMMARY:High School Graduation
URL;VALUE=URI:https://www.newmarket.k12.nh.us/calendar/8318811/high-school-
 graduation
DTSTART;VALUE=DATE:20260605
DTEND;VALUE=DATE:20260606
END:VEVENT
END:VCALENDAR
