BEGIN:VCALENDAR
VERSION:2.0
PRODID:SchoolNow
CALSCALE:GREGORIAN
BEGIN:VEVENT
UID:04a69bb2-4ba1-11f0-aaf0-0a58a9feac02
DTSTAMP:20250617T173218Z
SUMMARY:Spring Break - No School
URL;VALUE=URI:https://www.newmarket.k12.nh.us/calendar/8318808/spring-break
 -no-school
DTSTART;VALUE=DATE:20260427
DTEND;VALUE=DATE:20260502
END:VEVENT
END:VCALENDAR
