BEGIN:VCALENDAR
VERSION:2.0
PRODID:SchoolNow
CALSCALE:GREGORIAN
BEGIN:VEVENT
UID:8b35cfe6-4ba0-11f0-8aba-0a58a9feac02
DTSTAMP:20250617T172855Z
SUMMARY:MLK Day - No School
URL;VALUE=URI:https://www.newmarket.k12.nh.us/calendar/8318804/mlk-day-no-s
 chool
DTSTART;VALUE=DATE:20260119
DTEND;VALUE=DATE:20260120
END:VEVENT
END:VCALENDAR
