BEGIN:VCALENDAR
VERSION:2.0
PRODID:SchoolNow
CALSCALE:GREGORIAN
BEGIN:VEVENT
UID:776255e8-4ba0-11f0-a53a-0e8bf55b29ab
DTSTAMP:20250617T172821Z
SUMMARY:Staff Professional Development - No School for Students
URL;VALUE=URI:https://www.newmarket.k12.nh.us/calendar/8318803/staff-profes
 sional-development-no-school-for-students
DTSTART;VALUE=DATE:20260116
DTEND;VALUE=DATE:20260117
END:VEVENT
END:VCALENDAR
