BEGIN:VCALENDAR
VERSION:2.0
PRODID:SchoolNow
CALSCALE:GREGORIAN
BEGIN:VEVENT
UID:159830b0-4b8e-11f0-9725-0a58a9feac02
DTSTAMP:20250617T151646Z
SUMMARY:Thanksgiving Break
URL;VALUE=URI:https://www.newmarket.k12.nh.us/calendar/8318699/thanksgiving
 -break
DTSTART;VALUE=DATE:20251126
DTEND;VALUE=DATE:20251129
END:VEVENT
END:VCALENDAR
