BEGIN:VCALENDAR
VERSION:2.0
PRODID:SchoolNow
CALSCALE:GREGORIAN
BEGIN:VEVENT
UID:f1f1dd50-4b8d-11f0-9359-022fd56b161f
DTSTAMP:20250617T151547Z
SUMMARY:Veteran's Day - No School
URL;VALUE=URI:https://www.newmarket.k12.nh.us/calendar/8318698/veterans-day
 -no-school
DTSTART;VALUE=DATE:20251111
DTEND;VALUE=DATE:20251112
END:VEVENT
END:VCALENDAR
