BEGIN:VCALENDAR
VERSION:2.0
PRODID:SchoolNow
CALSCALE:GREGORIAN
BEGIN:VEVENT
UID:ddc72696-4b8d-11f0-b4ff-0a58a9feac02
DTSTAMP:20251023T140036Z
SUMMARY:Staff PD Day -  Parent Conferences/ No School for Students
URL;VALUE=URI:https://www.newmarket.k12.nh.us/calendar/8318697/staff-profes
 sional-development-day-no-school-for-students
DTSTART;VALUE=DATE:20251103
DTEND;VALUE=DATE:20251104
END:VEVENT
END:VCALENDAR
