BEGIN:VCALENDAR
VERSION:2.0
PRODID:SchoolNow
CALSCALE:GREGORIAN
BEGIN:VEVENT
UID:b7b91dce-4b8d-11f0-82a7-0affe11e2879
DTSTAMP:20250617T151409Z
SUMMARY:Columbus Day/Indigenous People's Day - No School
URL;VALUE=URI:https://www.newmarket.k12.nh.us/calendar/8318696/columbus-day
 -indigenous-peoples-day-no-school
DTSTART;VALUE=DATE:20251013
DTEND;VALUE=DATE:20251014
END:VEVENT
END:VCALENDAR
