BEGIN:VCALENDAR
VERSION:2.0
PRODID:SchoolNow
CALSCALE:GREGORIAN
BEGIN:VEVENT
UID:95aad7ea-4b8d-11f0-ba72-02de2f7b37e7
DTSTAMP:20250617T151312Z
SUMMARY:Staff Professional Development Day - No School for Students
URL;VALUE=URI:https://www.newmarket.k12.nh.us/calendar/8318695/staff-profes
 sional-development-day-no-school-for-students
DTSTART;VALUE=DATE:20251010
DTEND;VALUE=DATE:20251011
END:VEVENT
END:VCALENDAR
