BEGIN:VCALENDAR
VERSION:2.0
PRODID:SchoolNow
CALSCALE:GREGORIAN
BEGIN:VEVENT
UID:6f0a161e-4b8d-11f0-8c27-0affe33dc041
DTSTAMP:20250617T151207Z
SUMMARY:Labor Day - No School
URL;VALUE=URI:https://www.newmarket.k12.nh.us/calendar/8318694/labor-day-no
 -school
DTSTART;VALUE=DATE:20250901
DTEND;VALUE=DATE:20250902
END:VEVENT
END:VCALENDAR
