BEGIN:VCALENDAR
VERSION:2.0
PRODID:SchoolNow
CALSCALE:GREGORIAN
BEGIN:VEVENT
UID:3a313f44-4b8d-11f0-be9a-0a58a9feac02
DTSTAMP:20250617T151118Z
SUMMARY:No School
URL;VALUE=URI:https://www.newmarket.k12.nh.us/calendar/8318693/no-school
DTSTART;VALUE=DATE:20250829
DTEND;VALUE=DATE:20250830
END:VEVENT
END:VCALENDAR
