BEGIN:VCALENDAR
VERSION:2.0
PRODID:SchoolNow
CALSCALE:GREGORIAN
BEGIN:VEVENT
UID:6f7eafcc-4b8a-11f0-9630-0ef924d70cdd
DTSTAMP:20250617T145039Z
SUMMARY:First Day of School
URL;VALUE=URI:https://www.newmarket.k12.nh.us/calendar/8318692/first-day-of
 -school
DTSTART;VALUE=DATE:20250826
DTEND;VALUE=DATE:20250827
END:VEVENT
END:VCALENDAR
