BEGIN:VCALENDAR
VERSION:2.0
PRODID:SchoolNow
CALSCALE:GREGORIAN
BEGIN:VEVENT
UID:1f427d96-1add-11f0-b95d-0e73baf81961
DTSTAMP:20250416T175913Z
SUMMARY:NES Talent Night at NJSHS Cafe
LOCATION:NJSHS Cafe
URL;VALUE=URI:https://www.newmarket.k12.nh.us/calendar/7938711/nes-talent-n
 ight
DTSTART:20250515T223100Z
DTEND:20250515T233100Z
END:VEVENT
END:VCALENDAR
