BEGIN:VCALENDAR
VERSION:2.0
PRODID:SchoolNow
CALSCALE:GREGORIAN
BEGIN:VEVENT
UID:efed70d2-1adc-11f0-b21c-0218bb909959
DTSTAMP:20250416T160746Z
SUMMARY:Unified Arts Night at NES
LOCATION:NES
URL;VALUE=URI:https://www.newmarket.k12.nh.us/calendar/7938710/unified-arts
 -night-at-nes
DTSTART:20250508T203000Z
DTEND:20250508T220000Z
END:VEVENT
END:VCALENDAR
