BEGIN:VCALENDAR
VERSION:2.0
PRODID:SchoolNow
CALSCALE:GREGORIAN
BEGIN:VEVENT
UID:f0aa99be-0362-11f0-b865-029438b84159
DTSTAMP:20250416T175840Z
SUMMARY:NES Concert for Band and Chorus at NJSHS Cafe
LOCATION:NJSHS Cafe
URL;VALUE=URI:https://www.newmarket.k12.nh.us/calendar/7708026/5th-grade-co
 ncert-for-band-and-chorus
DTSTART:20250514T220000Z
DTEND:20250514T230000Z
END:VEVENT
END:VCALENDAR
