BEGIN:VCALENDAR
VERSION:2.0
PRODID:SchoolNow
CALSCALE:GREGORIAN
BEGIN:VEVENT
UID:77fd87fc-f916-11ef-903d-0e1e50235387
DTSTAMP:20250304T163356Z
SUMMARY:Family Literacy Night
URL;VALUE=URI:https://www.newmarket.k12.nh.us/calendar/7600583/family-liter
 acy-night
DTSTART:20250312T213000Z
DTEND:20250312T230000Z
END:VEVENT
END:VCALENDAR
