BEGIN:VCALENDAR
VERSION:2.0
PRODID:SchoolNow
CALSCALE:GREGORIAN
BEGIN:VEVENT
UID:1dc65b0a-efa8-11ef-a10b-0a58a9feac02
DTSTAMP:20250220T163219Z
SUMMARY:Incoming Kindergarten Parents Night
URL;VALUE=URI:https://www.newmarket.k12.nh.us/calendar/7509364/incoming-kin
 dergarten-parents-night
DTSTART:20250310T220000Z
DTEND:20250310T230000Z
END:VEVENT
END:VCALENDAR
