BEGIN:VCALENDAR
VERSION:2.0
PRODID:SchoolNow
CALSCALE:GREGORIAN
BEGIN:VEVENT
UID:a9ebd0a8-e97a-11ef-a7a6-0a58a9feac02
DTSTAMP:20250212T195051Z
SUMMARY:Kids Night Out sponsored by SALT
URL;VALUE=URI:https://www.newmarket.k12.nh.us/calendar/7459795/kids-night-o
 ut-sponsored-by-salt
DTSTART:20250314T210000Z
DTEND:20250314T230000Z
END:VEVENT
END:VCALENDAR
