BEGIN:VCALENDAR
VERSION:2.0
PRODID:SchoolNow
CALSCALE:GREGORIAN
BEGIN:VEVENT
UID:e7cb2564-e974-11ef-859b-0a58a9feac02
DTSTAMP:20250212T190938Z
SUMMARY:Screenagers Parent Presentation Library
URL;VALUE=URI:https://www.newmarket.k12.nh.us/calendar/7458725/screenagers-
 parent-presentation-library
DTSTART:20250319T220000Z
DTEND:20250319T233000Z
END:VEVENT
END:VCALENDAR
