BEGIN:VCALENDAR
VERSION:2.0
PRODID:SchoolNow
CALSCALE:GREGORIAN
BEGIN:VEVENT
UID:8b1e370c-e7c6-11ef-8322-0a58a9feac02
DTSTAMP:20250210T154859Z
SUMMARY:Holiday Craft Fair Cafetorium
URL;VALUE=URI:https://www.newmarket.k12.nh.us/calendar/7448358/holiday-craf
 t-fair-cafetorium
DTSTART:20251206T140000Z
DTEND:20251206T180000Z
END:VEVENT
END:VCALENDAR
