BEGIN:VCALENDAR
VERSION:2.0
PRODID:SchoolNow
CALSCALE:GREGORIAN
BEGIN:VEVENT
UID:54ef9938-da82-11ef-8f7a-021317d9847b
DTSTAMP:20250124T183757Z
SUMMARY:Listening Session:  A Conversation between NHED and NH Special Educ
 ation Families
LOCATION:Virtual
URL;VALUE=URI:https://www.newmarket.k12.nh.us/calendar/7367454/listening-se
 ssion-a-conversation-between-nhed-and-nh-special-education-families
DTSTART:20250218T233000Z
DTEND:20250219T003000Z
ATTACH;FILENAME=Newmarket 2.18.2024 PAGS Listening Sessions_FINAL.pdf;FMTTY
 PE=application/pdf:https://campussuite-storage.s3.amazonaws.com/prod/15585
 65/9bb590a6-85cb-11e8-8e69-12904ceb35e2/2906700/3cde174e-da81-11ef-ac4a-0a
 ffca5437bb/file/Newmarket 2.18.2024 PAGS Listening Sessions_FINAL.pdf
END:VEVENT
END:VCALENDAR
