BEGIN:VCALENDAR
VERSION:2.0
PRODID:SchoolNow
CALSCALE:GREGORIAN
BEGIN:VEVENT
UID:e3e57c6c-cf82-11ef-902b-0a58a9feac02
DTSTAMP:20250110T184414Z
SUMMARY:Music Department Chocolate Festival Band Room
URL;VALUE=URI:https://www.newmarket.k12.nh.us/calendar/7296917/music-depart
 ment-chocolate-festival-band-room
DTSTART:20250219T230000Z
DTEND:20250220T013000Z
END:VEVENT
END:VCALENDAR
