BEGIN:VCALENDAR
VERSION:2.0
PRODID:SchoolNow
CALSCALE:GREGORIAN
BEGIN:VEVENT
UID:b978db42-cd2d-11ef-b38f-0a58a9feac02
DTSTAMP:20250107T193216Z
SUMMARY:Deliberative Session
URL;VALUE=URI:https://www.newmarket.k12.nh.us/calendar/7281647/deliberative
 -session
DTSTART:20250201T150000Z
DTEND:20250201T160000Z
END:VEVENT
END:VCALENDAR
