BEGIN:VCALENDAR
VERSION:2.0
PRODID:SchoolNow
CALSCALE:GREGORIAN
BEGIN:VEVENT
UID:13bdfc0a-cc6a-11ef-a457-0a58a9feac02
DTSTAMP:20250113T134104Z
SUMMARY:CANCELED Parent Forum:  Parenting in a Technology Driven World
LOCATION:Jr/Sr High School Library Media Center
URL;VALUE=URI:https://www.newmarket.k12.nh.us/calendar/7277527/parent-forum
 -parenting-in-a-technology-driven-world
DTSTART:20250115T230000Z
DTEND:20250116T003000Z
END:VEVENT
END:VCALENDAR
