BEGIN:VCALENDAR
VERSION:2.0
PRODID:SchoolNow
CALSCALE:GREGORIAN
BEGIN:VEVENT
UID:af21ed26-be34-11ef-8b18-0a58a9feac02
DTSTAMP:20241219T181135Z
SUMMARY:Class of 2026 2nd Annual Chili Cook Off Cafe
URL;VALUE=URI:https://www.newmarket.k12.nh.us/calendar/7196352/class-of-202
 6-2nd-annual-chili-cook-off-cafe
DTSTART:20250208T223000Z
DTEND:20250209T000000Z
END:VEVENT
END:VCALENDAR
