BEGIN:VCALENDAR
VERSION:2.0
PRODID:SchoolNow
CALSCALE:GREGORIAN
BEGIN:VEVENT
UID:3c3ca9e4-bc82-11ef-99cf-0e2b6da6ea51
DTSTAMP:20241217T142141Z
SUMMARY:International Travel Information Night
URL;VALUE=URI:https://www.newmarket.k12.nh.us/calendar/7186328/internationa
 l-travel-information-night
DTSTART:20250114T230000Z
DTEND:20250115T000000Z
END:VEVENT
END:VCALENDAR
