BEGIN:VCALENDAR
VERSION:2.0
PRODID:SchoolNow
CALSCALE:GREGORIAN
BEGIN:VEVENT
UID:0661acf4-9d36-11ef-ad65-0eaa609ad061
DTSTAMP:20241107T182803Z
SUMMARY:MS Athletics Winter Sports Award Night Cafetorium
URL;VALUE=URI:https://www.newmarket.k12.nh.us/calendar/6978562/ms-athletics
 -winter-sports-award-night-cafetorium
DTSTART:20250219T233000Z
DTEND:20250220T003000Z
END:VEVENT
END:VCALENDAR
