BEGIN:VCALENDAR
VERSION:2.0
PRODID:SchoolNow
CALSCALE:GREGORIAN
BEGIN:VEVENT
UID:dbb048bc-9d35-11ef-a676-0a58a9feac02
DTSTAMP:20241107T182651Z
SUMMARY:HS Athletics Winter Sports Awards Cafetorium
URL;VALUE=URI:https://www.newmarket.k12.nh.us/calendar/6978561/hs-athletics
 -winter-sports-awards-cafetorium
DTSTART:20250311T223000Z
DTEND:20250311T233000Z
END:VEVENT
END:VCALENDAR
