BEGIN:VCALENDAR
VERSION:2.0
PRODID:SchoolNow
CALSCALE:GREGORIAN
BEGIN:VEVENT
UID:10f98018-915d-11ef-aa1e-0a58a9feac02
DTSTAMP:20241023T163717Z
SUMMARY:Winter Athletics Parent Meeting Gym/Cafe
URL;VALUE=URI:https://www.newmarket.k12.nh.us/calendar/6882961/winter-athle
 tics-parent-meeting-gym-cafe
DTSTART:20241106T233000Z
DTEND:20241107T010000Z
END:VEVENT
END:VCALENDAR
