BEGIN:VCALENDAR
VERSION:2.0
PRODID:SchoolNow
CALSCALE:GREGORIAN
BEGIN:VEVENT
UID:2ef96b90-8ca9-11ef-8ee1-0a58a9feac02
DTSTAMP:20241017T165933Z
SUMMARY:HS Fall Athletic Awards Cafetorium
URL;VALUE=URI:https://www.newmarket.k12.nh.us/calendar/6845169/hs-fall-athl
 etic-awards-cafetorium
DTSTART:20241112T233000Z
DTEND:20241113T010000Z
END:VEVENT
END:VCALENDAR
