BEGIN:VCALENDAR
VERSION:2.0
PRODID:SchoolNow
CALSCALE:GREGORIAN
BEGIN:VEVENT
UID:053bc8c0-8ca9-11ef-abd2-0a58a9feac02
DTSTAMP:20241017T165823Z
SUMMARY:MS Fall Athletic Awards
URL;VALUE=URI:https://www.newmarket.k12.nh.us/calendar/6845168/ms-fall-athl
 etic-awards
DTSTART:20241017T223000Z
DTEND:20241018T000000Z
END:VEVENT
END:VCALENDAR
