BEGIN:VCALENDAR
VERSION:2.0
PRODID:SchoolNow
CALSCALE:GREGORIAN
BEGIN:VEVENT
UID:6d8738e6-8bc9-11ef-b7c9-0afff4c3950b
DTSTAMP:20241016T141850Z
SUMMARY:Book Fair Family Night - NES Library
URL;VALUE=URI:https://www.newmarket.k12.nh.us/calendar/6836527/nes-book-fai
 r-family-night
DTSTART:20241120T220000Z
DTEND:20241121T000000Z
END:VEVENT
END:VCALENDAR
