BEGIN:VCALENDAR
VERSION:2.0
PRODID:SchoolNow
CALSCALE:GREGORIAN
BEGIN:VEVENT
UID:3f4115da-7f5b-11ef-a3d5-0a58a9feac02
DTSTAMP:20240930T183918Z
SUMMARY:NHS Red Cross Blood Drive
URL;VALUE=URI:https://www.newmarket.k12.nh.us/calendar/6726591/nhs-blood-dr
 ive
DTSTART:20241029T180000Z
DTEND:20241029T230000Z
END:VEVENT
END:VCALENDAR
