BEGIN:VCALENDAR
VERSION:2.0
PRODID:SchoolNow
CALSCALE:GREGORIAN
BEGIN:VEVENT
UID:5934df0e-6178-11ef-a0c7-0a58a9feac02
DTSTAMP:20240823T175139Z
SUMMARY:Volunteer Fingerprinting
URL;VALUE=URI:https://www.newmarket.k12.nh.us/calendar/6449137/volunteer-fi
 ngerprinting
DTSTART:20240907T120000Z
DTEND:20240907T170000Z
END:VEVENT
END:VCALENDAR
