BEGIN:VCALENDAR
VERSION:2.0
PRODID:SchoolNow
CALSCALE:GREGORIAN
BEGIN:VEVENT
UID:80f1f1ba-6175-11ef-864d-0a58a9feac02
DTSTAMP:20240823T173117Z
SUMMARY:September 3rd- Pre-Kindergarten Starts
URL;VALUE=URI:https://www.newmarket.k12.nh.us/calendar/6449116/september-3r
 d-pre-kindergarten-starts
DTSTART:20240904T172900Z
DTEND:20240904T182900Z
END:VEVENT
END:VCALENDAR
