BEGIN:VCALENDAR
VERSION:2.0
PRODID:SchoolNow
CALSCALE:GREGORIAN
BEGIN:VEVENT
UID:95c219d6-4e8c-11ef-9db4-02c6f16bd771
DTSTAMP:20240730T155838Z
SUMMARY:First day of school\, Pre-K
URL;VALUE=URI:https://www.newmarket.k12.nh.us/calendar/6329505/first-day-of
 -school-grades-k-12-clone
DTSTART;VALUE=DATE:20240903
DTEND;VALUE=DATE:20240904
END:VEVENT
END:VCALENDAR
