BEGIN:VCALENDAR
VERSION:2.0
PRODID:SchoolNow
CALSCALE:GREGORIAN
BEGIN:VEVENT
UID:bf4efdb4-453b-11ef-a111-0a58a9feac02
DTSTAMP:20240718T192718Z
SUMMARY:Graduation
URL;VALUE=URI:https://www.newmarket.k12.nh.us/calendar/6278726/graduation
DTSTART:20250606T220000Z
DTEND:20250606T233000Z
END:VEVENT
END:VCALENDAR
