BEGIN:VCALENDAR
VERSION:2.0
PRODID:SchoolNow
CALSCALE:GREGORIAN
BEGIN:VEVENT
UID:88cd764e-453b-11ef-9041-0a58a9feac02
DTSTAMP:20240718T192547Z
SUMMARY:No School\, Memorial Day
URL;VALUE=URI:https://www.newmarket.k12.nh.us/calendar/6278725/no-school-st
 aff-pd-day-clone-clone-clone-clone-clone-clone-clone-clone-clone-clone
DTSTART;VALUE=DATE:20250526
DTEND;VALUE=DATE:20250527
END:VEVENT
END:VCALENDAR
