BEGIN:VCALENDAR
VERSION:2.0
PRODID:SchoolNow
CALSCALE:GREGORIAN
BEGIN:VEVENT
UID:3e9c58f6-453b-11ef-a6c5-0a58a9feac02
DTSTAMP:20240718T192342Z
SUMMARY:Half Day\, Early Release
URL;VALUE=URI:https://www.newmarket.k12.nh.us/calendar/6278722/half-day-ear
 ly-release
DTSTART;VALUE=DATE:20250402
DTEND;VALUE=DATE:20250403
END:VEVENT
END:VCALENDAR
