BEGIN:VCALENDAR
VERSION:2.0
PRODID:SchoolNow
CALSCALE:GREGORIAN
BEGIN:VEVENT
UID:e8b3d32e-453a-11ef-a305-028d8f183b07
DTSTAMP:20240718T192118Z
SUMMARY:No School\, Staff PD Day
URL;VALUE=URI:https://www.newmarket.k12.nh.us/calendar/6278721/no-school-st
 aff-pd-day-clone-clone-clone-clone-clone-clone-clone
DTSTART;VALUE=DATE:20250311
DTEND;VALUE=DATE:20250312
END:VEVENT
END:VCALENDAR
