BEGIN:VCALENDAR
VERSION:2.0
PRODID:SchoolNow
CALSCALE:GREGORIAN
BEGIN:VEVENT
UID:d7047246-453a-11ef-b61a-0a58a9feac02
DTSTAMP:20240718T192048Z
SUMMARY:No School\, February Vacation
URL;VALUE=URI:https://www.newmarket.k12.nh.us/calendar/6278720/no-school-st
 aff-pd-day-clone-clone-clone-clone-clone-clone-clone-clone
DTSTART;VALUE=DATE:20250224
DTEND;VALUE=DATE:20250301
END:VEVENT
END:VCALENDAR
