BEGIN:VCALENDAR
VERSION:2.0
PRODID:SchoolNow
CALSCALE:GREGORIAN
BEGIN:VEVENT
UID:be00d9ba-453a-11ef-8f1e-028d8f183b07
DTSTAMP:20240718T192006Z
SUMMARY:No School\, Martin Luther King Day
URL;VALUE=URI:https://www.newmarket.k12.nh.us/calendar/6278715/no-school-st
 aff-pd-day-clone-clone-clone-clone-clone-clone-clone
DTSTART;VALUE=DATE:20250120
DTEND;VALUE=DATE:20250121
END:VEVENT
END:VCALENDAR
