BEGIN:VCALENDAR
VERSION:2.0
PRODID:SchoolNow
CALSCALE:GREGORIAN
BEGIN:VEVENT
UID:a5881fe2-453a-11ef-8740-0afff631acdd
DTSTAMP:20240718T191925Z
SUMMARY:No School\, Staff PD Day
URL;VALUE=URI:https://www.newmarket.k12.nh.us/calendar/6278714/no-school-st
 aff-pd-day-clone-clone-clone-clone-clone-clone
DTSTART;VALUE=DATE:20250117
DTEND;VALUE=DATE:20250118
END:VEVENT
END:VCALENDAR
