BEGIN:VCALENDAR
VERSION:2.0
PRODID:SchoolNow
CALSCALE:GREGORIAN
BEGIN:VEVENT
UID:79ad5f18-453a-11ef-92e6-0a58a9feac02
DTSTAMP:20241204T161256Z
SUMMARY:No School\, Winter Break
URL;VALUE=URI:https://www.newmarket.k12.nh.us/calendar/6278713/no-school-st
 aff-pd-day-clone-clone-clone-clone-clone
DTSTART;VALUE=DATE:20241223
DTEND;VALUE=DATE:20250102
END:VEVENT
END:VCALENDAR
