BEGIN:VCALENDAR
VERSION:2.0
PRODID:SchoolNow
CALSCALE:GREGORIAN
BEGIN:VEVENT
UID:605eb336-453a-11ef-a507-0a58a9feac02
DTSTAMP:20240718T191729Z
SUMMARY:No School\, Thanksgiving Break
URL;VALUE=URI:https://www.newmarket.k12.nh.us/calendar/6278712/no-school-st
 aff-pd-day-clone-clone-clone-clone
DTSTART;VALUE=DATE:20241127
DTEND;VALUE=DATE:20241130
END:VEVENT
END:VCALENDAR
